BEGIN:VCALENDAR
VERSION:2.0
PRODID:-//Crisp Professional Development - ECPv6.15.20//NONSGML v1.0//EN
CALSCALE:GREGORIAN
METHOD:PUBLISH
X-WR-CALNAME:Crisp Professional Development
X-ORIGINAL-URL:https://www.crisp-cpd.com
X-WR-CALDESC:Events for Crisp Professional Development
REFRESH-INTERVAL;VALUE=DURATION:PT1H
X-Robots-Tag:noindex
X-PUBLISHED-TTL:PT1H
BEGIN:VTIMEZONE
TZID:Europe/London
BEGIN:DAYLIGHT
TZOFFSETFROM:+0000
TZOFFSETTO:+0100
TZNAME:BST
DTSTART:20240331T010000
END:DAYLIGHT
BEGIN:STANDARD
TZOFFSETFROM:+0100
TZOFFSETTO:+0000
TZNAME:GMT
DTSTART:20241027T010000
END:STANDARD
BEGIN:DAYLIGHT
TZOFFSETFROM:+0000
TZOFFSETTO:+0100
TZNAME:BST
DTSTART:20250330T010000
END:DAYLIGHT
BEGIN:STANDARD
TZOFFSETFROM:+0100
TZOFFSETTO:+0000
TZNAME:GMT
DTSTART:20251026T010000
END:STANDARD
BEGIN:DAYLIGHT
TZOFFSETFROM:+0000
TZOFFSETTO:+0100
TZNAME:BST
DTSTART:20260329T010000
END:DAYLIGHT
BEGIN:STANDARD
TZOFFSETFROM:+0100
TZOFFSETTO:+0000
TZNAME:GMT
DTSTART:20261025T010000
END:STANDARD
END:VTIMEZONE
BEGIN:VEVENT
DTSTART;TZID=Europe/London:20250603T093000
DTEND;TZID=Europe/London:20250603T163000
DTSTAMP:20260422T135306
CREATED:20241120T115711Z
LAST-MODIFIED:20241120T121728Z
UID:10000434-1748943000-1748968200@www.crisp-cpd.com
SUMMARY:Excel Intermediate Level 1 course
DESCRIPTION:
URL:https://www.crisp-cpd.com/course/excel-intermediate-level-1-course/
LOCATION:Crisp Professional Development\, Crisp Professional Development\, Pynes Hill Business Centre\,\, Exeter\, Devon\, EX2 5JL
CATEGORIES:Courses for Everyone
ORGANIZER;CN="Crisp Professional Development":MAILTO:info@crisp-cpd.com
END:VEVENT
BEGIN:VEVENT
DTSTART;TZID=Europe/London:20250605T093000
DTEND;TZID=Europe/London:20250605T163000
DTSTAMP:20260422T135306
CREATED:20241017T132254Z
LAST-MODIFIED:20250225T163929Z
UID:10000318-1749115800-1749141000@www.crisp-cpd.com
SUMMARY:Train the Trainer course
DESCRIPTION:
URL:https://www.crisp-cpd.com/course/train-the-trainer-course/
LOCATION:Crisp Professional Development\, Crisp Professional Development\, Pynes Hill Business Centre\,\, Exeter\, Devon\, EX2 5JL
CATEGORIES:Communication skills,Courses for Everyone
ORGANIZER;CN="Crisp Professional Development":MAILTO:info@crisp-cpd.com
END:VEVENT
BEGIN:VEVENT
DTSTART;TZID=Europe/London:20250610T093000
DTEND;TZID=Europe/London:20250610T163000
DTSTAMP:20260422T135306
CREATED:20240918T113159Z
LAST-MODIFIED:20240918T113605Z
UID:10000315-1749547800-1749573000@www.crisp-cpd.com
SUMMARY:Assertiveness\, Self-Confidence & Communication Training
DESCRIPTION:Contact us for more dates!
URL:https://www.crisp-cpd.com/course/assertiveness-self-confidence-communication-training/
LOCATION:Crisp Professional Development\, Crisp Professional Development\, Pynes Hill Business Centre\,\, Exeter\, Devon\, EX2 5JL
CATEGORIES:Communication skills,Courses for Everyone
ORGANIZER;CN="Crisp Professional Development":MAILTO:info@crisp-cpd.com
END:VEVENT
BEGIN:VEVENT
DTSTART;TZID=Europe/London:20250612T093000
DTEND;TZID=Europe/London:20250612T163000
DTSTAMP:20260422T135306
CREATED:20240723T150829Z
LAST-MODIFIED:20240723T150954Z
UID:10000308-1749720600-1749745800@www.crisp-cpd.com
SUMMARY:Training for Supervisors
DESCRIPTION:
URL:https://www.crisp-cpd.com/course/stepping-into-line-management/
LOCATION:Crisp Professional Development\, Crisp Professional Development\, Pynes Hill Business Centre\,\, Exeter\, Devon\, EX2 5JL
CATEGORIES:Courses for Everyone,Leadership & management
ORGANIZER;CN="Crisp Professional Development":MAILTO:info@crisp-cpd.com
END:VEVENT
BEGIN:VEVENT
DTSTART;TZID=Europe/London:20250625T093000
DTEND;TZID=Europe/London:20250625T133000
DTSTAMP:20260422T135306
CREATED:20240806T111110Z
LAST-MODIFIED:20250203T122958Z
UID:10000429-1750843800-1750858200@www.crisp-cpd.com
SUMMARY:Team Leadership Course
DESCRIPTION:
URL:https://www.crisp-cpd.com/course/developing-and-leading-teams/
LOCATION:https://www.crisp-cpd.com/course/developing-and-leading-teams/
CATEGORIES:Courses for Everyone,Leadership & management
ORGANIZER;CN="Crisp Professional Development":MAILTO:info@crisp-cpd.com
END:VEVENT
BEGIN:VEVENT
DTSTART;TZID=Europe/London:20250625T093000
DTEND;TZID=Europe/London:20250625T160000
DTSTAMP:20260422T135306
CREATED:20241216T164539Z
LAST-MODIFIED:20250131T123955Z
UID:10000448-1750843800-1750867200@www.crisp-cpd.com
SUMMARY:Skilltec Training - Microsoft Word Level 3 Training Course
DESCRIPTION:
URL:https://www.crisp-cpd.com/course/microsoft-word-level-3-training-course/
LOCATION:Devon
CATEGORIES:Courses for Everyone
END:VEVENT
BEGIN:VEVENT
DTSTART;TZID=Europe/London:20250626T093000
DTEND;TZID=Europe/London:20250626T163000
DTSTAMP:20260422T135306
CREATED:20240729T114346Z
LAST-MODIFIED:20240729T114651Z
UID:10000310-1750930200-1750955400@www.crisp-cpd.com
SUMMARY:Time Management Course
DESCRIPTION:
URL:https://www.crisp-cpd.com/course/time-management-course/
LOCATION:Crisp Professional Development\, Crisp Professional Development\, Pynes Hill Business Centre\,\, Exeter\, Devon\, EX2 5JL
CATEGORIES:Courses for Everyone
ORGANIZER;CN="Crisp Professional Development":MAILTO:info@crisp-cpd.com
END:VEVENT
END:VCALENDAR