BEGIN:VCALENDAR
VERSION:2.0
PRODID:-//Crisp Professional Development - ECPv6.15.20//NONSGML v1.0//EN
CALSCALE:GREGORIAN
METHOD:PUBLISH
X-WR-CALNAME:Crisp Professional Development
X-ORIGINAL-URL:https://www.crisp-cpd.com
X-WR-CALDESC:Events for Crisp Professional Development
REFRESH-INTERVAL;VALUE=DURATION:PT1H
X-Robots-Tag:noindex
X-PUBLISHED-TTL:PT1H
BEGIN:VTIMEZONE
TZID:Europe/London
BEGIN:DAYLIGHT
TZOFFSETFROM:+0000
TZOFFSETTO:+0100
TZNAME:BST
DTSTART:20240331T010000
END:DAYLIGHT
BEGIN:STANDARD
TZOFFSETFROM:+0100
TZOFFSETTO:+0000
TZNAME:GMT
DTSTART:20241027T010000
END:STANDARD
BEGIN:DAYLIGHT
TZOFFSETFROM:+0000
TZOFFSETTO:+0100
TZNAME:BST
DTSTART:20250330T010000
END:DAYLIGHT
BEGIN:STANDARD
TZOFFSETFROM:+0100
TZOFFSETTO:+0000
TZNAME:GMT
DTSTART:20251026T010000
END:STANDARD
BEGIN:DAYLIGHT
TZOFFSETFROM:+0000
TZOFFSETTO:+0100
TZNAME:BST
DTSTART:20260329T010000
END:DAYLIGHT
BEGIN:STANDARD
TZOFFSETFROM:+0100
TZOFFSETTO:+0000
TZNAME:GMT
DTSTART:20261025T010000
END:STANDARD
END:VTIMEZONE
BEGIN:VEVENT
DTSTART;TZID=Europe/London:20250612T093000
DTEND;TZID=Europe/London:20250612T163000
DTSTAMP:20260422T161106
CREATED:20240723T150829Z
LAST-MODIFIED:20240723T150954Z
UID:10000308-1749720600-1749745800@www.crisp-cpd.com
SUMMARY:Training for Supervisors
DESCRIPTION:
URL:https://www.crisp-cpd.com/course/stepping-into-line-management/
LOCATION:Crisp Professional Development\, Crisp Professional Development\, Pynes Hill Business Centre\,\, Exeter\, Devon\, EX2 5JL
CATEGORIES:Courses for Everyone,Leadership & management
ORGANIZER;CN="Crisp Professional Development":MAILTO:info@crisp-cpd.com
END:VEVENT
BEGIN:VEVENT
DTSTART;TZID=Europe/London:20250618T093000
DTEND;TZID=Europe/London:20250618T130000
DTSTAMP:20260422T161106
CREATED:20241029T132537Z
LAST-MODIFIED:20241224T150757Z
UID:10000439-1750239000-1750251600@www.crisp-cpd.com
SUMMARY:Delegation & Empowerment Training For Managers
DESCRIPTION:
URL:https://www.crisp-cpd.com/course/delegating-motivating-and-empowering-your-team/
LOCATION:https://www.crisp-cpd.com/course/delegating-motivating-and-empowering-your-team/
CATEGORIES:Leadership & management
ORGANIZER;CN="Crisp Professional Development":MAILTO:info@crisp-cpd.com
END:VEVENT
BEGIN:VEVENT
DTSTART;TZID=Europe/London:20250625T093000
DTEND;TZID=Europe/London:20250625T133000
DTSTAMP:20260422T161106
CREATED:20240806T111110Z
LAST-MODIFIED:20250203T122958Z
UID:10000429-1750843800-1750858200@www.crisp-cpd.com
SUMMARY:Team Leadership Course
DESCRIPTION:
URL:https://www.crisp-cpd.com/course/developing-and-leading-teams/
LOCATION:https://www.crisp-cpd.com/course/developing-and-leading-teams/
CATEGORIES:Courses for Everyone,Leadership & management
ORGANIZER;CN="Crisp Professional Development":MAILTO:info@crisp-cpd.com
END:VEVENT
END:VCALENDAR