BEGIN:VCALENDAR
VERSION:2.0
PRODID:-//Crisp Professional Development - ECPv6.15.20//NONSGML v1.0//EN
CALSCALE:GREGORIAN
METHOD:PUBLISH
X-ORIGINAL-URL:https://www.crisp-cpd.com
X-WR-CALDESC:Events for Crisp Professional Development
REFRESH-INTERVAL;VALUE=DURATION:PT1H
X-Robots-Tag:noindex
X-PUBLISHED-TTL:PT1H
BEGIN:VTIMEZONE
TZID:Europe/London
BEGIN:DAYLIGHT
TZOFFSETFROM:+0000
TZOFFSETTO:+0100
TZNAME:BST
DTSTART:20240331T010000
END:DAYLIGHT
BEGIN:STANDARD
TZOFFSETFROM:+0100
TZOFFSETTO:+0000
TZNAME:GMT
DTSTART:20241027T010000
END:STANDARD
BEGIN:DAYLIGHT
TZOFFSETFROM:+0000
TZOFFSETTO:+0100
TZNAME:BST
DTSTART:20250330T010000
END:DAYLIGHT
BEGIN:STANDARD
TZOFFSETFROM:+0100
TZOFFSETTO:+0000
TZNAME:GMT
DTSTART:20251026T010000
END:STANDARD
BEGIN:DAYLIGHT
TZOFFSETFROM:+0000
TZOFFSETTO:+0100
TZNAME:BST
DTSTART:20260329T010000
END:DAYLIGHT
BEGIN:STANDARD
TZOFFSETFROM:+0100
TZOFFSETTO:+0000
TZNAME:GMT
DTSTART:20261025T010000
END:STANDARD
END:VTIMEZONE
BEGIN:VEVENT
DTSTART;TZID=Europe/London:20250911T093000
DTEND;TZID=Europe/London:20250911T163000
DTSTAMP:20260422T115539
CREATED:20240718T151916Z
LAST-MODIFIED:20250324T145057Z
UID:10000306-1757583000-1757608200@www.crisp-cpd.com
SUMMARY:Introduction to People Management skills (2 day Course) – 11 & 18 September 2025
DESCRIPTION:Note: This is a 2 day course – delegates must be available to attend both 11th and 18th September 2025.
URL:https://www.crisp-cpd.com/course/people-management-courses/
LOCATION:Crisp Professional Development\, Crisp Professional Development\, Pynes Hill Business Centre\,\, Exeter\, Devon\, EX2 5JL
CATEGORIES:Courses for Everyone,Leadership & management
ORGANIZER;CN="Crisp Professional Development":MAILTO:info@crisp-cpd.com
END:VEVENT
END:VCALENDAR