BEGIN:VCALENDAR
VERSION:2.0
PRODID:-//Crisp Professional Development - ECPv6.15.20//NONSGML v1.0//EN
CALSCALE:GREGORIAN
METHOD:PUBLISH
X-ORIGINAL-URL:https://www.crisp-cpd.com
X-WR-CALDESC:Events for Crisp Professional Development
REFRESH-INTERVAL;VALUE=DURATION:PT1H
X-Robots-Tag:noindex
X-PUBLISHED-TTL:PT1H
BEGIN:VTIMEZONE
TZID:Europe/London
BEGIN:DAYLIGHT
TZOFFSETFROM:+0000
TZOFFSETTO:+0100
TZNAME:BST
DTSTART:20240331T010000
END:DAYLIGHT
BEGIN:STANDARD
TZOFFSETFROM:+0100
TZOFFSETTO:+0000
TZNAME:GMT
DTSTART:20241027T010000
END:STANDARD
BEGIN:DAYLIGHT
TZOFFSETFROM:+0000
TZOFFSETTO:+0100
TZNAME:BST
DTSTART:20250330T010000
END:DAYLIGHT
BEGIN:STANDARD
TZOFFSETFROM:+0100
TZOFFSETTO:+0000
TZNAME:GMT
DTSTART:20251026T010000
END:STANDARD
BEGIN:DAYLIGHT
TZOFFSETFROM:+0000
TZOFFSETTO:+0100
TZNAME:BST
DTSTART:20260329T010000
END:DAYLIGHT
BEGIN:STANDARD
TZOFFSETFROM:+0100
TZOFFSETTO:+0000
TZNAME:GMT
DTSTART:20261025T010000
END:STANDARD
END:VTIMEZONE
BEGIN:VEVENT
DTSTART;TZID=Europe/London:20251113T093000
DTEND;TZID=Europe/London:20251113T163000
DTSTAMP:20260422T092650
CREATED:20241212T105523Z
LAST-MODIFIED:20250723T120959Z
UID:10000440-1763026200-1763051400@www.crisp-cpd.com
SUMMARY:Persuasion & Influencing Skills Training
DESCRIPTION:
URL:https://www.crisp-cpd.com/course/persuasion-influencing-skills-training/
LOCATION:Crisp Professional Development\, Crisp Professional Development\, Pynes Hill Business Centre\,\, Exeter\, Devon\, EX2 5JL
CATEGORIES:Communication skills,Courses for Everyone,Leadership & management
ORGANIZER;CN="Crisp Professional Development":MAILTO:info@crisp-cpd.com
END:VEVENT
BEGIN:VEVENT
DTSTART;TZID=Europe/London:20251114T093000
DTEND;TZID=Europe/London:20251114T163000
DTSTAMP:20260422T092650
CREATED:20250611T143048Z
LAST-MODIFIED:20250611T155711Z
UID:10000461-1763112600-1763137800@www.crisp-cpd.com
SUMMARY:Introduction to People Management - 2-day course: 14 & 18 November 2025
DESCRIPTION:
URL:https://www.crisp-cpd.com/course/people-management-courses/
LOCATION:Crisp Professional Development\, Crisp Professional Development\, Pynes Hill Business Centre\,\, Exeter\, Devon\, EX2 5JL
CATEGORIES:Leadership & management
ORGANIZER;CN="Crisp Professional Development":MAILTO:info@crisp-cpd.com
END:VEVENT
BEGIN:VEVENT
DTSTART;TZID=Europe/London:20251119T093000
DTEND;TZID=Europe/London:20251119T133000
DTSTAMP:20260422T092650
CREATED:20240806T144056Z
LAST-MODIFIED:20250513T083150Z
UID:10000432-1763544600-1763559000@www.crisp-cpd.com
SUMMARY:Mastering People Management (2 day course) - 19 & 26 November 2025
DESCRIPTION:Note: This is a 2-day event\, attendees must be available to attend both the 19th and 26th November 2025.
URL:https://www.crisp-cpd.com/course/mastering-people-management-course/
LOCATION:https://www.crisp-cpd.com/course/mastering-people-management-course/
CATEGORIES:Leadership & management
ORGANIZER;CN="Crisp Professional Development":MAILTO:info@crisp-cpd.com
END:VEVENT
END:VCALENDAR