BEGIN:VCALENDAR
VERSION:2.0
PRODID:-//Crisp Professional Development - ECPv6.15.20//NONSGML v1.0//EN
CALSCALE:GREGORIAN
METHOD:PUBLISH
X-ORIGINAL-URL:https://www.crisp-cpd.com
X-WR-CALDESC:Events for Crisp Professional Development
REFRESH-INTERVAL;VALUE=DURATION:PT1H
X-Robots-Tag:noindex
X-PUBLISHED-TTL:PT1H
BEGIN:VTIMEZONE
TZID:Europe/London
BEGIN:DAYLIGHT
TZOFFSETFROM:+0000
TZOFFSETTO:+0100
TZNAME:BST
DTSTART:20240331T010000
END:DAYLIGHT
BEGIN:STANDARD
TZOFFSETFROM:+0100
TZOFFSETTO:+0000
TZNAME:GMT
DTSTART:20241027T010000
END:STANDARD
BEGIN:DAYLIGHT
TZOFFSETFROM:+0000
TZOFFSETTO:+0100
TZNAME:BST
DTSTART:20250330T010000
END:DAYLIGHT
BEGIN:STANDARD
TZOFFSETFROM:+0100
TZOFFSETTO:+0000
TZNAME:GMT
DTSTART:20251026T010000
END:STANDARD
BEGIN:DAYLIGHT
TZOFFSETFROM:+0000
TZOFFSETTO:+0100
TZNAME:BST
DTSTART:20260329T010000
END:DAYLIGHT
BEGIN:STANDARD
TZOFFSETFROM:+0100
TZOFFSETTO:+0000
TZNAME:GMT
DTSTART:20261025T010000
END:STANDARD
BEGIN:DAYLIGHT
TZOFFSETFROM:+0000
TZOFFSETTO:+0100
TZNAME:BST
DTSTART:20270328T010000
END:DAYLIGHT
BEGIN:STANDARD
TZOFFSETFROM:+0100
TZOFFSETTO:+0000
TZNAME:GMT
DTSTART:20271031T010000
END:STANDARD
END:VTIMEZONE
BEGIN:VEVENT
DTSTART;TZID=Europe/London:20250227T093000
DTEND;TZID=Europe/London:20250227T163000
DTSTAMP:20260423T084309
CREATED:20240722T153811Z
LAST-MODIFIED:20250131T104748Z
UID:10000307-1740648600-1740673800@www.crisp-cpd.com
SUMMARY:Training For Supervisors
DESCRIPTION:
URL:https://www.crisp-cpd.com/course/stepping-into-line-management/
LOCATION:Crisp Professional Development\, Crisp Professional Development\, Pynes Hill Business Centre\,\, Exeter\, Devon\, EX2 5JL
CATEGORIES:Courses for Everyone,Leadership & management
ORGANIZER;CN="Crisp Professional Development":MAILTO:info@crisp-cpd.com
END:VEVENT
BEGIN:VEVENT
DTSTART;TZID=Europe/London:20250326T093000
DTEND;TZID=Europe/London:20250326T130000
DTSTAMP:20260423T084309
CREATED:20241024T151824Z
LAST-MODIFIED:20241224T150205Z
UID:10000438-1742981400-1742994000@www.crisp-cpd.com
SUMMARY:Delegation & Empowerment Training For Managers
DESCRIPTION:
URL:https://www.crisp-cpd.com/course/delegating-motivating-and-empowering-your-team/
LOCATION:https://www.crisp-cpd.com/course/delegating-motivating-and-empowering-your-team/
CATEGORIES:Leadership & management
ORGANIZER;CN="Crisp Professional Development":MAILTO:info@crisp-cpd.com
END:VEVENT
BEGIN:VEVENT
DTSTART;TZID=Europe/London:20250327T093000
DTEND;TZID=Europe/London:20250327T163000
DTSTAMP:20260423T084309
CREATED:20240813T115422Z
LAST-MODIFIED:20241204T163822Z
UID:10000312-1743067800-1743093000@www.crisp-cpd.com
SUMMARY:Finance for Non-Financial Managers
DESCRIPTION:
URL:https://www.crisp-cpd.com/course/finance-for-non-financial-managers/
LOCATION:Crisp Professional Development\, Crisp Professional Development\, Pynes Hill Business Centre\,\, Exeter\, Devon\, EX2 5JL
CATEGORIES:Courses for Everyone,Leadership & management
ORGANIZER;CN="Crisp Professional Development":MAILTO:info@crisp-cpd.com
END:VEVENT
BEGIN:VEVENT
DTSTART;TZID=Europe/London:20250410T093000
DTEND;TZID=Europe/London:20250410T133000
DTSTAMP:20260423T084309
CREATED:20250312T163437Z
LAST-MODIFIED:20250312T172521Z
UID:10000451-1744277400-1744291800@www.crisp-cpd.com
SUMMARY:Managing Effective and Efficient Business Processes
DESCRIPTION:
URL:https://www.crisp-cpd.com/course/business-process-improvement-for-efficiency-and-effectiveness/
LOCATION:https://www.crisp-cpd.com/course/business-process-improvement-for-efficiency-and-effectiveness/
CATEGORIES:Leadership & management
ORGANIZER;CN="Crisp Professional Development":MAILTO:info@crisp-cpd.com
END:VEVENT
BEGIN:VEVENT
DTSTART;TZID=Europe/London:20250514T093000
DTEND;TZID=Europe/London:20250514T163000
DTSTAMP:20260423T084309
CREATED:20241212T095538Z
LAST-MODIFIED:20241212T095831Z
UID:10000441-1747215000-1747240200@www.crisp-cpd.com
SUMMARY:Persuasion & Influencing Skills Training
DESCRIPTION:
URL:https://www.crisp-cpd.com/course/persuasion-influencing-skills-training/
LOCATION:Crisp Professional Development\, Crisp Professional Development\, Pynes Hill Business Centre\,\, Exeter\, Devon\, EX2 5JL
CATEGORIES:Communication skills,Courses for Everyone,Leadership & management
ORGANIZER;CN="Crisp Professional Development":MAILTO:info@crisp-cpd.com
END:VEVENT
BEGIN:VEVENT
DTSTART;TZID=Europe/London:20250515T093000
DTEND;TZID=Europe/London:20250515T163000
DTSTAMP:20260423T084309
CREATED:20240718T141221Z
LAST-MODIFIED:20240718T141347Z
UID:10000305-1747301400-1747326600@www.crisp-cpd.com
SUMMARY:Introduction to People Management skills (2 day Course) - 15 & 22 May 2025
DESCRIPTION:Note: This is a 2 day course – delegates must be available to attend both 15 and 22 May 2025. Vegetarian and meat lunch options are provided. Regrettably we are unable to cater for any other specific dietary requirements. If this applies to you\, please bring your preferred choice of lunch and snacks with you.
URL:https://www.crisp-cpd.com/course/people-management-courses/
LOCATION:Crisp Professional Development\, Crisp Professional Development\, Pynes Hill Business Centre\,\, Exeter\, Devon\, EX2 5JL
CATEGORIES:Courses for Everyone,Leadership & management
ORGANIZER;CN="Crisp Professional Development":MAILTO:info@crisp-cpd.com
END:VEVENT
BEGIN:VEVENT
DTSTART;TZID=Europe/London:20250521T093000
DTEND;TZID=Europe/London:20250521T133000
DTSTAMP:20260423T084309
CREATED:20240806T113929Z
LAST-MODIFIED:20250311T102840Z
UID:10000430-1747819800-1747834200@www.crisp-cpd.com
SUMMARY:Mastering People Management Course (2 day Course) – 21 & 28 May 2025
DESCRIPTION:Note: This is a 2-day event\, attendees must be available to attend both the 21st and 28th May 2025.
URL:https://www.crisp-cpd.com/course/mastering-people-management-course/
LOCATION:https://us02web.zoom.us/j/82153650751
CATEGORIES:Leadership & management
ORGANIZER;CN="Crisp Professional Development":MAILTO:info@crisp-cpd.com
END:VEVENT
BEGIN:VEVENT
DTSTART;TZID=Europe/London:20250612T093000
DTEND;TZID=Europe/London:20250612T163000
DTSTAMP:20260423T084309
CREATED:20240723T150829Z
LAST-MODIFIED:20240723T150954Z
UID:10000308-1749720600-1749745800@www.crisp-cpd.com
SUMMARY:Training for Supervisors
DESCRIPTION:
URL:https://www.crisp-cpd.com/course/stepping-into-line-management/
LOCATION:Crisp Professional Development\, Crisp Professional Development\, Pynes Hill Business Centre\,\, Exeter\, Devon\, EX2 5JL
CATEGORIES:Courses for Everyone,Leadership & management
ORGANIZER;CN="Crisp Professional Development":MAILTO:info@crisp-cpd.com
END:VEVENT
BEGIN:VEVENT
DTSTART;TZID=Europe/London:20250618T093000
DTEND;TZID=Europe/London:20250618T130000
DTSTAMP:20260423T084309
CREATED:20241029T132537Z
LAST-MODIFIED:20241224T150757Z
UID:10000439-1750239000-1750251600@www.crisp-cpd.com
SUMMARY:Delegation & Empowerment Training For Managers
DESCRIPTION:
URL:https://www.crisp-cpd.com/course/delegating-motivating-and-empowering-your-team/
LOCATION:https://www.crisp-cpd.com/course/delegating-motivating-and-empowering-your-team/
CATEGORIES:Leadership & management
ORGANIZER;CN="Crisp Professional Development":MAILTO:info@crisp-cpd.com
END:VEVENT
BEGIN:VEVENT
DTSTART;TZID=Europe/London:20250625T093000
DTEND;TZID=Europe/London:20250625T133000
DTSTAMP:20260423T084309
CREATED:20240806T111110Z
LAST-MODIFIED:20250203T122958Z
UID:10000429-1750843800-1750858200@www.crisp-cpd.com
SUMMARY:Team Leadership Course
DESCRIPTION:
URL:https://www.crisp-cpd.com/course/developing-and-leading-teams/
LOCATION:https://www.crisp-cpd.com/course/developing-and-leading-teams/
CATEGORIES:Courses for Everyone,Leadership & management
ORGANIZER;CN="Crisp Professional Development":MAILTO:info@crisp-cpd.com
END:VEVENT
BEGIN:VEVENT
DTSTART;TZID=Europe/London:20250911T093000
DTEND;TZID=Europe/London:20250911T163000
DTSTAMP:20260423T084309
CREATED:20240718T151916Z
LAST-MODIFIED:20250324T145057Z
UID:10000306-1757583000-1757608200@www.crisp-cpd.com
SUMMARY:Introduction to People Management skills (2 day Course) – 11 & 18 September 2025
DESCRIPTION:Note: This is a 2 day course – delegates must be available to attend both 11th and 18th September 2025.
URL:https://www.crisp-cpd.com/course/people-management-courses/
LOCATION:Crisp Professional Development\, Crisp Professional Development\, Pynes Hill Business Centre\,\, Exeter\, Devon\, EX2 5JL
CATEGORIES:Courses for Everyone,Leadership & management
ORGANIZER;CN="Crisp Professional Development":MAILTO:info@crisp-cpd.com
END:VEVENT
BEGIN:VEVENT
DTSTART;TZID=Europe/London:20251009T093000
DTEND;TZID=Europe/London:20251009T163000
DTSTAMP:20260423T084309
CREATED:20250509T130528Z
LAST-MODIFIED:20250509T130912Z
UID:10000458-1760002200-1760027400@www.crisp-cpd.com
SUMMARY:Training For Supervisors
DESCRIPTION:
URL:https://www.crisp-cpd.com/course/stepping-into-line-management/
LOCATION:Crisp Professional Development\, Crisp Professional Development\, Pynes Hill Business Centre\,\, Exeter\, Devon\, EX2 5JL
CATEGORIES:Leadership & management
ORGANIZER;CN="Crisp Professional Development":MAILTO:info@crisp-cpd.com
END:VEVENT
BEGIN:VEVENT
DTSTART;TZID=Europe/London:20251015T093000
DTEND;TZID=Europe/London:20251015T163000
DTSTAMP:20260423T084309
CREATED:20250402T110124Z
LAST-MODIFIED:20250605T122934Z
UID:10000454-1760520600-1760545800@www.crisp-cpd.com
SUMMARY:Finance for Non-Financial Managers
DESCRIPTION:
URL:https://www.crisp-cpd.com/course/finance-for-non-financial-managers/
LOCATION:Crisp Professional Development\, Crisp Professional Development\, Pynes Hill Business Centre\,\, Exeter\, Devon\, EX2 5JL
CATEGORIES:Leadership & management
ORGANIZER;CN="Crisp Professional Development":MAILTO:info@crisp-cpd.com
END:VEVENT
BEGIN:VEVENT
DTSTART;TZID=Europe/London:20251113T093000
DTEND;TZID=Europe/London:20251113T163000
DTSTAMP:20260423T084309
CREATED:20241212T105523Z
LAST-MODIFIED:20250723T120959Z
UID:10000440-1763026200-1763051400@www.crisp-cpd.com
SUMMARY:Persuasion & Influencing Skills Training
DESCRIPTION:
URL:https://www.crisp-cpd.com/course/persuasion-influencing-skills-training/
LOCATION:Crisp Professional Development\, Crisp Professional Development\, Pynes Hill Business Centre\,\, Exeter\, Devon\, EX2 5JL
CATEGORIES:Communication skills,Courses for Everyone,Leadership & management
ORGANIZER;CN="Crisp Professional Development":MAILTO:info@crisp-cpd.com
END:VEVENT
BEGIN:VEVENT
DTSTART;TZID=Europe/London:20251114T093000
DTEND;TZID=Europe/London:20251114T163000
DTSTAMP:20260423T084309
CREATED:20250611T143048Z
LAST-MODIFIED:20250611T155711Z
UID:10000461-1763112600-1763137800@www.crisp-cpd.com
SUMMARY:Introduction to People Management - 2-day course: 14 & 18 November 2025
DESCRIPTION:
URL:https://www.crisp-cpd.com/course/people-management-courses/
LOCATION:Crisp Professional Development\, Crisp Professional Development\, Pynes Hill Business Centre\,\, Exeter\, Devon\, EX2 5JL
CATEGORIES:Leadership & management
ORGANIZER;CN="Crisp Professional Development":MAILTO:info@crisp-cpd.com
END:VEVENT
BEGIN:VEVENT
DTSTART;TZID=Europe/London:20251119T093000
DTEND;TZID=Europe/London:20251119T133000
DTSTAMP:20260423T084309
CREATED:20240806T144056Z
LAST-MODIFIED:20250513T083150Z
UID:10000432-1763544600-1763559000@www.crisp-cpd.com
SUMMARY:Mastering People Management (2 day course) - 19 & 26 November 2025
DESCRIPTION:Note: This is a 2-day event\, attendees must be available to attend both the 19th and 26th November 2025.
URL:https://www.crisp-cpd.com/course/mastering-people-management-course/
LOCATION:https://www.crisp-cpd.com/course/mastering-people-management-course/
CATEGORIES:Leadership & management
ORGANIZER;CN="Crisp Professional Development":MAILTO:info@crisp-cpd.com
END:VEVENT
BEGIN:VEVENT
DTSTART;TZID=Europe/London:20260115T093000
DTEND;TZID=Europe/London:20260115T163000
DTSTAMP:20260423T084309
CREATED:20250611T145511Z
LAST-MODIFIED:20251222T161253Z
UID:10000462-1768469400-1768494600@www.crisp-cpd.com
SUMMARY:Introduction to People Management 2-day course: 15 & 22 January 2026
DESCRIPTION:
URL:https://www.crisp-cpd.com/course/people-management-courses/
LOCATION:Crisp Professional Development\, Crisp Professional Development\, Pynes Hill Business Centre\,\, Exeter\, Devon\, EX2 5JL
CATEGORIES:Leadership & management
ORGANIZER;CN="Crisp Professional Development":MAILTO:info@crisp-cpd.com
END:VEVENT
BEGIN:VEVENT
DTSTART;TZID=Europe/London:20260204T093000
DTEND;TZID=Europe/London:20260204T163000
DTSTAMP:20260423T084309
CREATED:20241213T095824Z
LAST-MODIFIED:20251222T161633Z
UID:10000443-1770197400-1770222600@www.crisp-cpd.com
SUMMARY:Mastering People Management (2 day Course) - 4 & 11 February 2026
DESCRIPTION:
URL:https://www.crisp-cpd.com/course/mastering-people-management-course/
LOCATION:Crisp Professional Development\, Crisp Professional Development\, Pynes Hill Business Centre\,\, Exeter\, Devon\, EX2 5JL
CATEGORIES:Leadership & management
ORGANIZER;CN="Crisp Professional Development":MAILTO:info@crisp-cpd.com
END:VEVENT
BEGIN:VEVENT
DTSTART;TZID=Europe/London:20260224T093000
DTEND;TZID=Europe/London:20260224T163000
DTSTAMP:20260423T084310
CREATED:20250910T150410Z
LAST-MODIFIED:20260122T135357Z
UID:10000467-1771925400-1771950600@www.crisp-cpd.com
SUMMARY:Stepping into Line Management: For Supervisors and Team Leaders
DESCRIPTION:
URL:https://www.crisp-cpd.com/course/stepping-into-line-management/
LOCATION:Crisp Professional Development\, Crisp Professional Development\, Pynes Hill Business Centre\,\, Exeter\, Devon\, EX2 5JL
CATEGORIES:Leadership & management
ORGANIZER;CN="Crisp Professional Development":MAILTO:info@crisp-cpd.com
END:VEVENT
BEGIN:VEVENT
DTSTART;TZID=Europe/London:20260225T093000
DTEND;TZID=Europe/London:20260225T133000
DTSTAMP:20260423T084310
CREATED:20250619T090518Z
LAST-MODIFIED:20260122T160311Z
UID:10000464-1772011800-1772026200@www.crisp-cpd.com
SUMMARY:Delegating\, Motivating and Empowering Your Team
DESCRIPTION:
URL:https://www.crisp-cpd.com/course/delegating-motivating-and-empowering-your-team/
LOCATION:https://www.crisp-cpd.com/course/delegating-motivating-and-empowering-your-team/
CATEGORIES:Communication skills,Leadership & management
ORGANIZER;CN="Crisp Professional Development":MAILTO:info@crisp-cpd.com
END:VEVENT
BEGIN:VEVENT
DTSTART;TZID=Europe/London:20260401T093000
DTEND;TZID=Europe/London:20260401T163000
DTSTAMP:20260423T084310
CREATED:20251126T154537Z
LAST-MODIFIED:20260122T163357Z
UID:10000477-1775035800-1775061000@www.crisp-cpd.com
SUMMARY:Developing and Leading Teams
DESCRIPTION:
URL:https://www.crisp-cpd.com/course/developing-and-leading-teams/
LOCATION:Crisp Professional Development\, Crisp Professional Development\, Pynes Hill Business Centre\,\, Exeter\, Devon\, EX2 5JL
CATEGORIES:Leadership & management
ORGANIZER;CN="Crisp Professional Development":MAILTO:info@crisp-cpd.com
END:VEVENT
BEGIN:VEVENT
DTSTART;TZID=Europe/London:20260423T093000
DTEND;TZID=Europe/London:20260423T163000
DTSTAMP:20260423T084310
CREATED:20251126T145914Z
LAST-MODIFIED:20260422T134649Z
UID:10000478-1776936600-1776961800@www.crisp-cpd.com
SUMMARY:Train the Trainer course
DESCRIPTION:
URL:https://www.crisp-cpd.com/course/train-the-trainer-course/
LOCATION:Crisp Professional Development\, Crisp Professional Development\, Pynes Hill Business Centre\,\, Exeter\, Devon\, EX2 5JL
CATEGORIES:Communication skills,Courses for Everyone,Leadership & management
ORGANIZER;CN="Crisp Professional Development":MAILTO:info@crisp-cpd.com
END:VEVENT
BEGIN:VEVENT
DTSTART;TZID=Europe/London:20260429T093000
DTEND;TZID=Europe/London:20260429T163000
DTSTAMP:20260423T084310
CREATED:20250923T113207Z
LAST-MODIFIED:20260312T123058Z
UID:10000473-1777455000-1777480200@www.crisp-cpd.com
SUMMARY:Finance for Non-Financial Managers
DESCRIPTION:
URL:https://www.crisp-cpd.com/course/finance-for-non-financial-managers/
LOCATION:Crisp Professional Development\, Crisp Professional Development\, Pynes Hill Business Centre\,\, Exeter\, Devon\, EX2 5JL
CATEGORIES:Leadership & management
ORGANIZER;CN="Crisp Professional Development":MAILTO:info@crisp-cpd.com
END:VEVENT
BEGIN:VEVENT
DTSTART;TZID=Europe/London:20260514T093000
DTEND;TZID=Europe/London:20260514T163000
DTSTAMP:20260423T084310
CREATED:20250819T135910Z
LAST-MODIFIED:20251028T105639Z
UID:10000352-1778751000-1778776200@www.crisp-cpd.com
SUMMARY:Introduction to People Management (2 day course) - 14 & 20 May 2026
DESCRIPTION:
URL:https://www.crisp-cpd.com/course/people-management-courses/
LOCATION:Crisp Professional Development\, Crisp Professional Development\, Pynes Hill Business Centre\,\, Exeter\, Devon\, EX2 5JL
CATEGORIES:Leadership & management
ORGANIZER;CN="Crisp Professional Development":MAILTO:info@crisp-cpd.com
END:VEVENT
BEGIN:VEVENT
DTSTART;TZID=Europe/London:20260602T093000
DTEND;TZID=Europe/London:20260602T163000
DTSTAMP:20260423T084310
CREATED:20260122T112851Z
LAST-MODIFIED:20260128T125914Z
UID:10000426-1780392600-1780417800@www.crisp-cpd.com
SUMMARY:Dealing with Difficult People and Negativity
DESCRIPTION:
URL:https://www.crisp-cpd.com/course/dealing-with-difficult-people-and-negativity/
LOCATION:Crisp Professional Development\, Crisp Professional Development\, Pynes Hill Business Centre\,\, Exeter\, Devon\, EX2 5JL
CATEGORIES:Communication skills,Courses for Everyone,Leadership & management
ORGANIZER;CN="Crisp Professional Development":MAILTO:info@crisp-cpd.com
END:VEVENT
BEGIN:VEVENT
DTSTART;TZID=Europe/London:20260603T093000
DTEND;TZID=Europe/London:20260603T163000
DTSTAMP:20260423T084310
CREATED:20251201T121759Z
LAST-MODIFIED:20260122T160418Z
UID:10000480-1780479000-1780504200@www.crisp-cpd.com
SUMMARY:Delegating\, Motivating and Empowering Your Team
DESCRIPTION:
URL:https://www.crisp-cpd.com/course/delegating-motivating-and-empowering-your-team/
LOCATION:Crisp Professional Development\, Crisp Professional Development\, Pynes Hill Business Centre\,\, Exeter\, Devon\, EX2 5JL
CATEGORIES:Leadership & management
ORGANIZER;CN="Crisp Professional Development":MAILTO:info@crisp-cpd.com
END:VEVENT
BEGIN:VEVENT
DTSTART;TZID=Europe/London:20260611T093000
DTEND;TZID=Europe/London:20260611T163000
DTSTAMP:20260423T084310
CREATED:20250911T151714Z
LAST-MODIFIED:20260122T135204Z
UID:10000468-1781170200-1781195400@www.crisp-cpd.com
SUMMARY:Stepping into Line Management: For Supervisors and Team Leaders
DESCRIPTION:
URL:https://www.crisp-cpd.com/course/stepping-into-line-management/
LOCATION:Crisp Professional Development\, Crisp Professional Development\, Pynes Hill Business Centre\,\, Exeter\, Devon\, EX2 5JL
CATEGORIES:Leadership & management
ORGANIZER;CN="Crisp Professional Development":MAILTO:info@crisp-cpd.com
END:VEVENT
BEGIN:VEVENT
DTSTART;TZID=Europe/London:20260617T093000
DTEND;TZID=Europe/London:20260617T163000
DTSTAMP:20260423T084310
CREATED:20251210T164733Z
LAST-MODIFIED:20260204T170141Z
UID:10000482-1781688600-1781713800@www.crisp-cpd.com
SUMMARY:Business Process Improvement for Efficiency and Effectiveness
DESCRIPTION:
URL:https://www.crisp-cpd.com/course/business-process-improvement-for-efficiency-and-effectiveness/
LOCATION:Crisp Professional Development\, Crisp Professional Development\, Pynes Hill Business Centre\,\, Exeter\, Devon\, EX2 5JL
CATEGORIES:Courses for Everyone,Leadership & management
ORGANIZER;CN="Crisp Professional Development":MAILTO:info@crisp-cpd.com
END:VEVENT
BEGIN:VEVENT
DTSTART;TZID=Europe/London:20260701T093000
DTEND;TZID=Europe/London:20260701T163000
DTSTAMP:20260423T084310
CREATED:20251216T093957Z
LAST-MODIFIED:20251224T093006Z
UID:10000486-1782898200-1782923400@www.crisp-cpd.com
SUMMARY:Mastering People Management (2-day course) - 1 & 8 July 2026
DESCRIPTION:Please note: This is a 2-day event\, attendees must be available to attend both the 1st and 8th July 2026.
URL:https://www.crisp-cpd.com/course/mastering-people-management-course/
LOCATION:Crisp Professional Development\, Crisp Professional Development\, Pynes Hill Business Centre\,\, Exeter\, Devon\, EX2 5JL
CATEGORIES:Leadership & management
ORGANIZER;CN="Crisp Professional Development":MAILTO:info@crisp-cpd.com
END:VEVENT
BEGIN:VEVENT
DTSTART;TZID=Europe/London:20260909T093000
DTEND;TZID=Europe/London:20260909T163000
DTSTAMP:20260423T084310
CREATED:20251127T123329Z
LAST-MODIFIED:20260122T163258Z
UID:10000479-1788946200-1788971400@www.crisp-cpd.com
SUMMARY:Developing and Leading Teams
DESCRIPTION:
URL:https://www.crisp-cpd.com/course/developing-and-leading-teams/
LOCATION:Crisp Professional Development\, Crisp Professional Development\, Pynes Hill Business Centre\,\, Exeter\, Devon\, EX2 5JL
CATEGORIES:Leadership & management
ORGANIZER;CN="Crisp Professional Development":MAILTO:info@crisp-cpd.com
END:VEVENT
END:VCALENDAR