BEGIN:VCALENDAR
VERSION:2.0
PRODID:-//Crisp Professional Development - ECPv6.15.20//NONSGML v1.0//EN
CALSCALE:GREGORIAN
METHOD:PUBLISH
X-ORIGINAL-URL:https://www.crisp-cpd.com
X-WR-CALDESC:Events for Crisp Professional Development
REFRESH-INTERVAL;VALUE=DURATION:PT1H
X-Robots-Tag:noindex
X-PUBLISHED-TTL:PT1H
BEGIN:VTIMEZONE
TZID:Europe/London
BEGIN:DAYLIGHT
TZOFFSETFROM:+0000
TZOFFSETTO:+0100
TZNAME:BST
DTSTART:20210328T010000
END:DAYLIGHT
BEGIN:STANDARD
TZOFFSETFROM:+0100
TZOFFSETTO:+0000
TZNAME:GMT
DTSTART:20211031T010000
END:STANDARD
BEGIN:DAYLIGHT
TZOFFSETFROM:+0000
TZOFFSETTO:+0100
TZNAME:BST
DTSTART:20220327T010000
END:DAYLIGHT
BEGIN:STANDARD
TZOFFSETFROM:+0100
TZOFFSETTO:+0000
TZNAME:GMT
DTSTART:20221030T010000
END:STANDARD
BEGIN:DAYLIGHT
TZOFFSETFROM:+0000
TZOFFSETTO:+0100
TZNAME:BST
DTSTART:20230326T010000
END:DAYLIGHT
BEGIN:STANDARD
TZOFFSETFROM:+0100
TZOFFSETTO:+0000
TZNAME:GMT
DTSTART:20231029T010000
END:STANDARD
END:VTIMEZONE
BEGIN:VEVENT
DTSTART;TZID=Europe/London:20221005T093000
DTEND;TZID=Europe/London:20221005T133000
DTSTAMP:20260421T110350
CREATED:20220427T095307Z
LAST-MODIFIED:20220623T104625Z
UID:10000491-1664962200-1664976600@www.crisp-cpd.com
SUMMARY:Customer Service skills
DESCRIPTION:
URL:https://www.crisp-cpd.com/course/customer-service-skills-training/
LOCATION:https://www.crisp-cpd.com/course/customer-service-skills-training/
CATEGORIES:Communication skills,Courses for Everyone
ORGANIZER;CN="Crisp Professional Development":MAILTO:info@crisp-cpd.com
END:VEVENT
BEGIN:VEVENT
DTSTART;TZID=Europe/London:20221012T093000
DTEND;TZID=Europe/London:20221012T130000
DTSTAMP:20260421T110350
CREATED:20220429T112950Z
LAST-MODIFIED:20220906T140857Z
UID:10000338-1665567000-1665579600@www.crisp-cpd.com
SUMMARY:Managing Effective and Efficient Business Processes
DESCRIPTION:
URL:https://www.crisp-cpd.com/course/business-process-improvement-for-efficiency-and-effectiveness/
LOCATION:https://www.crisp-cpd.com/course/business-process-improvement-for-efficiency-and-effectiveness/
CATEGORIES:Courses for Everyone,Leadership & management
ORGANIZER;CN="Crisp Professional Development":MAILTO:info@crisp-cpd.com
END:VEVENT
BEGIN:VEVENT
DTSTART;TZID=Europe/London:20221018T093000
DTEND;TZID=Europe/London:20221018T163000
DTSTAMP:20260421T110350
CREATED:20220505T132454Z
LAST-MODIFIED:20220623T103137Z
UID:10000340-1666085400-1666110600@www.crisp-cpd.com
SUMMARY:Excel Intermediate course
DESCRIPTION:
URL:https://www.crisp-cpd.com/course/excel-intermediate-level-1-course/
LOCATION:https://www.crisp-cpd.com/course/excel-intermediate-level-1-course/
CATEGORIES:Courses for Everyone
ORGANIZER;CN="Crisp Professional Development":MAILTO:info@crisp-cpd.com
END:VEVENT
BEGIN:VEVENT
DTSTART;TZID=Europe/London:20221019T093000
DTEND;TZID=Europe/London:20221019T130000
DTSTAMP:20260421T110350
CREATED:20220427T141946Z
LAST-MODIFIED:20220920T094610Z
UID:10000272-1666171800-1666184400@www.crisp-cpd.com
SUMMARY:Time Management course
DESCRIPTION:
URL:https://www.crisp-cpd.com/course/time-management-course/
LOCATION:https://www.crisp-cpd.com/course/time-management-course/
CATEGORIES:Courses for Everyone
ORGANIZER;CN="Crisp Professional Development":MAILTO:info@crisp-cpd.com
END:VEVENT
BEGIN:VEVENT
DTSTART;TZID=Europe/London:20221020T093000
DTEND;TZID=Europe/London:20221020T133000
DTSTAMP:20260421T110350
CREATED:20220610T102757Z
LAST-MODIFIED:20220913T123710Z
UID:10000348-1666258200-1666272600@www.crisp-cpd.com
SUMMARY:Mastering People Management course (2 day course: 20 & 27 October)
DESCRIPTION:This is a 2 day event\, attendees must be available to attend both 20 & 27 October.
URL:https://www.crisp-cpd.com/course/mastering-people-management-course/
LOCATION:https://www.crisp-cpd.com/course/mastering-people-management-course/
CATEGORIES:Leadership & management
ORGANIZER;CN="Crisp Professional Development":MAILTO:info@crisp-cpd.com
END:VEVENT
BEGIN:VEVENT
DTSTART;TZID=Europe/London:20221025T093000
DTEND;TZID=Europe/London:20221025T163000
DTSTAMP:20260421T110350
CREATED:20220811T155241Z
LAST-MODIFIED:20220922T143738Z
UID:10000278-1666690200-1666715400@www.crisp-cpd.com
SUMMARY:Persuasion & Influencing Skills training
DESCRIPTION:
URL:https://www.crisp-cpd.com/course/persuasion-influencing-skills-training/
LOCATION:Crisp Professional Development\, Crisp Professional Development\, Pynes Hill Business Centre\,\, Exeter\, Devon\, EX2 5JL
CATEGORIES:Communication skills,Courses for Everyone
ORGANIZER;CN="Crisp Professional Development":MAILTO:info@crisp-cpd.com
END:VEVENT
BEGIN:VEVENT
DTSTART;TZID=Europe/London:20221027T093000
DTEND;TZID=Europe/London:20221027T130000
DTSTAMP:20260421T110350
CREATED:20220523T134752Z
LAST-MODIFIED:20220623T105735Z
UID:10000276-1666863000-1666875600@www.crisp-cpd.com
SUMMARY:Introduction to Project Management
DESCRIPTION:
URL:https://www.crisp-cpd.com/course/introduction-to-project-management/
LOCATION:https://www.crisp-cpd.com/course/introduction-to-project-management/
CATEGORIES:Courses for Everyone
ORGANIZER;CN="Crisp Professional Development":MAILTO:info@crisp-cpd.com
END:VEVENT
END:VCALENDAR