BEGIN:VCALENDAR
VERSION:2.0
PRODID:-//Crisp Professional Development - ECPv6.15.20//NONSGML v1.0//EN
CALSCALE:GREGORIAN
METHOD:PUBLISH
X-ORIGINAL-URL:https://www.crisp-cpd.com
X-WR-CALDESC:Events for Crisp Professional Development
REFRESH-INTERVAL;VALUE=DURATION:PT1H
X-Robots-Tag:noindex
X-PUBLISHED-TTL:PT1H
BEGIN:VTIMEZONE
TZID:Europe/London
BEGIN:DAYLIGHT
TZOFFSETFROM:+0000
TZOFFSETTO:+0100
TZNAME:BST
DTSTART:20230326T010000
END:DAYLIGHT
BEGIN:STANDARD
TZOFFSETFROM:+0100
TZOFFSETTO:+0000
TZNAME:GMT
DTSTART:20231029T010000
END:STANDARD
BEGIN:DAYLIGHT
TZOFFSETFROM:+0000
TZOFFSETTO:+0100
TZNAME:BST
DTSTART:20240331T010000
END:DAYLIGHT
BEGIN:STANDARD
TZOFFSETFROM:+0100
TZOFFSETTO:+0000
TZNAME:GMT
DTSTART:20241027T010000
END:STANDARD
BEGIN:DAYLIGHT
TZOFFSETFROM:+0000
TZOFFSETTO:+0100
TZNAME:BST
DTSTART:20250330T010000
END:DAYLIGHT
BEGIN:STANDARD
TZOFFSETFROM:+0100
TZOFFSETTO:+0000
TZNAME:GMT
DTSTART:20251026T010000
END:STANDARD
END:VTIMEZONE
BEGIN:VEVENT
DTSTART;TZID=Europe/London:20241002T093000
DTEND;TZID=Europe/London:20241002T163000
DTSTAMP:20260421T122343
CREATED:20231108T103133Z
LAST-MODIFIED:20240119T124822Z
UID:10000521-1727861400-1727886600@www.crisp-cpd.com
SUMMARY:Training for Supervisors
DESCRIPTION:
URL:https://www.crisp-cpd.com/course/stepping-into-line-management/
LOCATION:Crisp Professional Development\, Crisp Professional Development\, Pynes Hill Business Centre\,\, Exeter\, Devon\, EX2 5JL
CATEGORIES:Communication skills,Courses for Everyone,Leadership & management
ORGANIZER;CN="Crisp Professional Development":MAILTO:info@crisp-cpd.com
END:VEVENT
BEGIN:VEVENT
DTSTART;TZID=Europe/London:20241003T093000
DTEND;TZID=Europe/London:20241003T163000
DTSTAMP:20260421T122343
CREATED:20231108T103623Z
LAST-MODIFIED:20240119T124837Z
UID:10000522-1727947800-1727973000@www.crisp-cpd.com
SUMMARY:Train the Trainer course
DESCRIPTION:
URL:https://www.crisp-cpd.com/course/train-the-trainer-course/
LOCATION:Crisp Professional Development\, Crisp Professional Development\, Pynes Hill Business Centre\,\, Exeter\, Devon\, EX2 5JL
CATEGORIES:Communication skills,Courses for Everyone
ORGANIZER;CN="Crisp Professional Development":MAILTO:info@crisp-cpd.com
END:VEVENT
BEGIN:VEVENT
DTSTART;TZID=Europe/London:20241007T093000
DTEND;TZID=Europe/London:20241007T163000
DTSTAMP:20260421T122343
CREATED:20231108T104011Z
LAST-MODIFIED:20240119T124850Z
UID:10000523-1728293400-1728318600@www.crisp-cpd.com
SUMMARY:Presentation Skills Training
DESCRIPTION:
URL:https://www.crisp-cpd.com/course/presentation-skills-training/
LOCATION:Crisp Professional Development\, Crisp Professional Development\, Pynes Hill Business Centre\,\, Exeter\, Devon\, EX2 5JL
CATEGORIES:Courses for Everyone
ORGANIZER;CN="Crisp Professional Development":MAILTO:info@crisp-cpd.com
END:VEVENT
BEGIN:VEVENT
DTSTART;TZID=Europe/London:20241016T093000
DTEND;TZID=Europe/London:20241016T133000
DTSTAMP:20260421T122343
CREATED:20231108T113542Z
LAST-MODIFIED:20240119T124918Z
UID:10000524-1729071000-1729085400@www.crisp-cpd.com
SUMMARY:Team Leadership Course
DESCRIPTION:
URL:https://www.crisp-cpd.com/course/developing-and-leading-teams/
LOCATION:https://www.crisp-cpd.com/course/developing-and-leading-teams/
CATEGORIES:Courses for Everyone,Leadership & management
ORGANIZER;CN="Crisp Professional Development":MAILTO:info@crisp-cpd.com
END:VEVENT
BEGIN:VEVENT
DTSTART;TZID=Europe/London:20241017T093000
DTEND;TZID=Europe/London:20241017T163000
DTSTAMP:20260421T122343
CREATED:20231108T151725Z
LAST-MODIFIED:20240119T124931Z
UID:10000525-1729157400-1729182600@www.crisp-cpd.com
SUMMARY:Finance for Non-Financial Managers
DESCRIPTION:
URL:https://www.crisp-cpd.com/course/finance-for-non-financial-managers/
LOCATION:Crisp Professional Development\, Crisp Professional Development\, Pynes Hill Business Centre\,\, Exeter\, Devon\, EX2 5JL
CATEGORIES:Leadership & management
ORGANIZER;CN="Crisp Professional Development":MAILTO:info@crisp-cpd.com
END:VEVENT
BEGIN:VEVENT
DTSTART;TZID=Europe/London:20241023T093000
DTEND;TZID=Europe/London:20241023T133000
DTSTAMP:20260421T122343
CREATED:20231109T093833Z
LAST-MODIFIED:20240119T124950Z
UID:10000526-1729675800-1729690200@www.crisp-cpd.com
SUMMARY:Customer Service skills
DESCRIPTION:
URL:https://www.crisp-cpd.com/course/customer-service-skills-training/
LOCATION:https://www.crisp-cpd.com/course/customer-service-skills-training/
CATEGORIES:Communication skills,Courses for Everyone
ORGANIZER;CN="Crisp Professional Development":MAILTO:info@crisp-cpd.com
END:VEVENT
BEGIN:VEVENT
DTSTART;TZID=Europe/London:20241024T093000
DTEND;TZID=Europe/London:20241024T163000
DTSTAMP:20260421T122343
CREATED:20231109T094301Z
LAST-MODIFIED:20241021T151332Z
UID:10000527-1729762200-1729787400@www.crisp-cpd.com
SUMMARY:Excel Intermediate Level 1 Course
DESCRIPTION:
URL:https://www.crisp-cpd.com/course/excel-intermediate-level-1-course/
LOCATION:Crisp Professional Development\, Crisp Professional Development\, Pynes Hill Business Centre\,\, Exeter\, Devon\, EX2 5JL
CATEGORIES:Courses for Everyone
ORGANIZER;CN="Crisp Professional Development":MAILTO:info@crisp-cpd.com
END:VEVENT
BEGIN:VEVENT
DTSTART;TZID=Europe/London:20241030T093000
DTEND;TZID=Europe/London:20241030T163000
DTSTAMP:20260421T122343
CREATED:20240610T112825Z
LAST-MODIFIED:20241002T133756Z
UID:10000303-1730280600-1730305800@www.crisp-cpd.com
SUMMARY:How to Deal with Difficult People Training
DESCRIPTION:
URL:https://www.crisp-cpd.com/course/dealing-with-difficult-people-and-negativity/
LOCATION:Crisp Professional Development\, Crisp Professional Development\, Pynes Hill Business Centre\,\, Exeter\, Devon\, EX2 5JL
CATEGORIES:Communication skills,Courses for Everyone
ORGANIZER;CN="Crisp Professional Development":MAILTO:info@crisp-cpd.com
END:VEVENT
END:VCALENDAR