BEGIN:VCALENDAR
VERSION:2.0
PRODID:-//Crisp Professional Development - ECPv6.15.20//NONSGML v1.0//EN
CALSCALE:GREGORIAN
METHOD:PUBLISH
X-WR-CALNAME:Crisp Professional Development
X-ORIGINAL-URL:https://www.crisp-cpd.com
X-WR-CALDESC:Events for Crisp Professional Development
REFRESH-INTERVAL;VALUE=DURATION:PT1H
X-Robots-Tag:noindex
X-PUBLISHED-TTL:PT1H
BEGIN:VTIMEZONE
TZID:Europe/London
BEGIN:DAYLIGHT
TZOFFSETFROM:+0000
TZOFFSETTO:+0100
TZNAME:BST
DTSTART:20230326T010000
END:DAYLIGHT
BEGIN:STANDARD
TZOFFSETFROM:+0100
TZOFFSETTO:+0000
TZNAME:GMT
DTSTART:20231029T010000
END:STANDARD
BEGIN:DAYLIGHT
TZOFFSETFROM:+0000
TZOFFSETTO:+0100
TZNAME:BST
DTSTART:20240331T010000
END:DAYLIGHT
BEGIN:STANDARD
TZOFFSETFROM:+0100
TZOFFSETTO:+0000
TZNAME:GMT
DTSTART:20241027T010000
END:STANDARD
BEGIN:DAYLIGHT
TZOFFSETFROM:+0000
TZOFFSETTO:+0100
TZNAME:BST
DTSTART:20250330T010000
END:DAYLIGHT
BEGIN:STANDARD
TZOFFSETFROM:+0100
TZOFFSETTO:+0000
TZNAME:GMT
DTSTART:20251026T010000
END:STANDARD
END:VTIMEZONE
BEGIN:VEVENT
DTSTART;TZID=Europe/London:20241104T093000
DTEND;TZID=Europe/London:20241104T163000
DTSTAMP:20260421T105821
CREATED:20231109T100229Z
LAST-MODIFIED:20240221T112358Z
UID:10000528-1730712600-1730737800@www.crisp-cpd.com
SUMMARY:Introduction to People Management skills (2 day Course) - 4 & 11 November
DESCRIPTION:
URL:https://www.crisp-cpd.com/course/people-management-courses/
LOCATION:Crisp Professional Development\, Crisp Professional Development\, Pynes Hill Business Centre\,\, Exeter\, Devon\, EX2 5JL
CATEGORIES:Courses for Everyone,Leadership & management
ORGANIZER;CN="Crisp Professional Development":MAILTO:info@crisp-cpd.com
END:VEVENT
BEGIN:VEVENT
DTSTART;TZID=Europe/London:20241106T093000
DTEND;TZID=Europe/London:20241106T133000
DTSTAMP:20260421T105821
CREATED:20231109T102756Z
LAST-MODIFIED:20240726T121506Z
UID:10000529-1730885400-1730899800@www.crisp-cpd.com
SUMMARY:Time Management Course
DESCRIPTION:
URL:https://www.crisp-cpd.com/course/time-management-course/
LOCATION:https://www.crisp-cpd.com/course/time-management-course/
CATEGORIES:Courses for Everyone
ORGANIZER;CN="Crisp Professional Development":MAILTO:info@crisp-cpd.com
END:VEVENT
BEGIN:VEVENT
DTSTART;TZID=Europe/London:20241107T093000
DTEND;TZID=Europe/London:20241107T133000
DTSTAMP:20260421T105821
CREATED:20231109T103736Z
LAST-MODIFIED:20240221T115545Z
UID:10000530-1730971800-1730986200@www.crisp-cpd.com
SUMMARY:Mastering People Management Course (2 day Course) - 7 & 14 November
DESCRIPTION:
URL:https://www.crisp-cpd.com/course/mastering-people-management-course/
LOCATION:https://www.crisp-cpd.com/course/mastering-people-management-course/
CATEGORIES:Courses for Everyone,Leadership & management
ORGANIZER;CN="Crisp Professional Development":MAILTO:info@crisp-cpd.com
END:VEVENT
BEGIN:VEVENT
DTSTART;TZID=Europe/London:20241112T093000
DTEND;TZID=Europe/London:20241112T153000
DTSTAMP:20260421T105821
CREATED:20231109T104520Z
LAST-MODIFIED:20240119T125114Z
UID:10000531-1731403800-1731425400@www.crisp-cpd.com
SUMMARY:Excel Intermediate Level 2 course
DESCRIPTION:
URL:https://www.crisp-cpd.com/course/excel-intermediate-level-2/
LOCATION:https://us02web.zoom.us/j/89613562981
CATEGORIES:Courses for Everyone
ORGANIZER;CN="Crisp Professional Development":MAILTO:info@crisp-cpd.com
END:VEVENT
BEGIN:VEVENT
DTSTART;TZID=Europe/London:20241120T093000
DTEND;TZID=Europe/London:20241120T133000
DTSTAMP:20260421T105821
CREATED:20231109T105635Z
LAST-MODIFIED:20240119T125128Z
UID:10000534-1732095000-1732109400@www.crisp-cpd.com
SUMMARY:Assertiveness & Confidence Training for Women
DESCRIPTION:
URL:https://www.crisp-cpd.com/course/assertiveness-confidence-training-for-women/
LOCATION:https://us02web.zoom.us/j/85701466436
CATEGORIES:Communication skills,Courses for Everyone
ORGANIZER;CN="Crisp Professional Development":MAILTO:info@crisp-cpd.com
END:VEVENT
BEGIN:VEVENT
DTSTART;TZID=Europe/London:20241120T093000
DTEND;TZID=Europe/London:20241120T163000
DTSTAMP:20260421T105821
CREATED:20231109T105142Z
LAST-MODIFIED:20240701T141627Z
UID:10000532-1732095000-1732120200@www.crisp-cpd.com
SUMMARY:Training for Supervisors
DESCRIPTION:
URL:https://www.crisp-cpd.com/course/stepping-into-line-management/
LOCATION:Crisp Professional Development\, Crisp Professional Development\, Pynes Hill Business Centre\,\, Exeter\, Devon\, EX2 5JL
CATEGORIES:Communication skills,Courses for Everyone,Leadership & management
ORGANIZER;CN="Crisp Professional Development":MAILTO:info@crisp-cpd.com
END:VEVENT
BEGIN:VEVENT
DTSTART;TZID=Europe/London:20241126T093000
DTEND;TZID=Europe/London:20241126T130000
DTSTAMP:20260421T105821
CREATED:20231109T110143Z
LAST-MODIFIED:20240119T125156Z
UID:10000533-1732613400-1732626000@www.crisp-cpd.com
SUMMARY:Managing Effective and Efficient Business Processes
DESCRIPTION:
URL:https://www.crisp-cpd.com/course/business-process-improvement-for-efficiency-and-effectiveness/
LOCATION:https://us02web.zoom.us/j/84968026010
CATEGORIES:Courses for Everyone,Leadership & management
ORGANIZER;CN="Crisp Professional Development":MAILTO:info@crisp-cpd.com
END:VEVENT
BEGIN:VEVENT
DTSTART;TZID=Europe/London:20241128T093000
DTEND;TZID=Europe/London:20241128T130000
DTSTAMP:20260421T105821
CREATED:20240410T090111Z
LAST-MODIFIED:20240410T090811Z
UID:10000417-1732786200-1732798800@www.crisp-cpd.com
SUMMARY:Assertiveness\, Self-Confidence and Communication Training
DESCRIPTION:
URL:https://www.crisp-cpd.com/course/assertiveness-self-confidence-communication-training/
LOCATION:https://us02web.zoom.us/j/84492836972
CATEGORIES:Communication skills,Courses for Everyone
ORGANIZER;CN="Crisp Professional Development":MAILTO:info@crisp-cpd.com
END:VEVENT
END:VCALENDAR